Workbook

Sheet A. Publications
A1: Models to be followed
A2: Year | B2: Authors | C2: Type of publication | D2: Title | E2: Journal | F2: Volume, page | G2: Doi / weblink | H2: Points | I2: Max. points
B3: Main author (first, last, corresponding) | I3: 75
A4: 2021 | B4: Fischer, L., M. Peters, S. Merbach, M. Eydner, A. Kuczka, J. Lambertz, M. Kummerfeld, K. Kahnt, A. Weiss, H. Petersen | C4: Research/Retrospective/Prospective study | D4: Increased mortality in wild tits in North Rhine-Westphalia (Germany) in 2020 with a special focus on Suttonella ornithocola and other infectious pathogens | E4: European Journal of Wildlife Research | F4: 67, 56 | G4: 10.1007/s10344-021-01500-7 | H4: 20
B5: Co-author
A6: 2023 | B6: Bergmann, F., Fischer, D., Fischer, L., Maisch, H., Risch, T., Dreyer, S., Sadeghi, B., Geelhaar, D., Grund, L., Merz, S., Groschup, M. H., Ziegler, U. | C6: Research/Retrospective/Prospective study | D6: Vaccination of zoo birds against West Nile virus to protect them and reduce the risk of viral transmission to staff and visitors - a pilot study | E6: Vaccines | F6: 11(3), 652 | G6: 10.3390/vaccines11030652 | H6: 10
A8: Year | B8: Authors | C8: Type of publication | D8: Title | E8: Journal | F8: Volume, page | G8: Doi / weblink | H8: Points | I8: Max. points
B9: Main author (first, last, corresponding) | I9: 75
B12: Co-author
H15: Total | I15: Counted Points
H16: =SUM(H10:H11,H13:H14) -> 0

Sheet B. Presentations
A1: Models to be followed
A2: Title | B2: Type of presentation | C2: Meeting | D2: Location | E2: Date | F2: Points | G2: Max. points | H2: Authors
A3: International Conferences | G3: 50
A4: Vaccination against West Nile virus using a killed vaccine in various zoo bird species in order to save bird lives and to reduce the spread of a zoonotic pathogen | B4: talk | C4: 5th International Conference on Avian, Herpetological and Exotic Mammal Medicine, Budapest, Hungary | D4: Online | E4: 27.-31.03.2022 | F4: 8 | H4: Fischer D., L. Fischer, T. Risch, F. Bergmann, H. Maisch, S. Dreyer, D. Gelhaar, L. Grund, S. Merz, U. Ziegler
A5: National Conferences
A6: Ist das Wild oder kann das weg? Gesundheitsmonitoring von Wildtieren in Nordrhein-Westfalen | B6: talk | C6: Niederwild-Tagung der Vereinigung der Wildbiologen und Jagdwissenschaftler Deutschlands | D6: Gießen, Germany | E6: 11.06.2023 | F6: 3 | H6: Fischer L.
A8: Title | C8: Meeting | D8: Location | E8: Date | F8: Points | G8: Max. points | H8: Authors
A9: International Conferences | G9: 50
A12: National Conferences
F15: Total | G15: Counted Points
F16: =SUM(F10:F11, F13:F14) -> 0

Sheet C. ECZM Biz Meetings
A1: To be updated accordingly
A2: Year | B2: Location | C2: Type of participation | D2: Points
A3: 2022 | B3: Budapest, Hungary | C3: online
A4: 2023 | B4: Valencia, Spain | C4: online or in person
A5: 2024 | B5: Ghent, Belgium | C5: in person (online is not considered)
A6: 2025 | B6: Cluj Napoca, Romania | C6: online or in person
A7: 2026 | B7: Belgrade, Serbia | C7: online or in person
D8: Total
D9: =SUM(D3:D7) -> 0

Sheet D. Meetings
A1: Models to be followed
A2: Meeting | B2: Location | C2: Date | D2: Duration (days) | E2: Points per session | F2: Total points | G2: Max. points
A3: International conferences or meetings | E3: per half day 4 points | F3: max 16 points per meeting | G3: 50
A4: 5th International Conference on Avian, Herpetological and Exotic Mammal Medicine, Budapest, Hungary | B4: Online | C4: 27.-31.03.2022 | D4: 4 | E4: =D4*2*4 -> 32 | F4: 16
A5: National conferences or meetings | E5: per half day 2 points | F5: max 8 points per meeting
A6: 11. Leipziger Tierärztekongress | B6: Leipzig, Germany | C6: 07.-10.07.2022 | D6: 4 | E6: =D6*2*2 -> 16 | F6: 8
A8: Meeting | B8: Location | C8: Date | D8: Duration (days) | E8: Points per session | F8: Total points | G8: Max. points
A9: International conferences or meetings | E9: per half day 4 points | F9: max 16 points per meeting | G9: 50
A12: National conferences or meetings | E12: per half day 2 points | F12: max 8 points per meeting
F15: Total | G15: Counted Points
F16: =SUM(F10:F11,F13:F14) -> 0

Sheet E. ECZM CommMembership
A1: To be updated accordingly
A2: ECZM Committee | B2: Member | C2: Speciality lead | D2: Years | E2: Points | F2: Period
E5: Total
E6: =SUM(E3:E4) -> 0

Sheet F. Residency
A1: To be updated accordingly
A2: Residency | B2: Kind | C2: Resident | D2: Years | E2: Points
E5: Total
E6: =SUM(E3:E4) -> 0

Sheet G. ExamQuestions 
A1: To be updated accordingly
C2: Points | D2: Max. points
A3: MCQs: | C3: =1*B3 -> 0 | D3: 55
A4: PQs: | C4: =3*B4 -> 0
C5: Total | D5: Counted Points
C6: =SUM(C3:C4) -> 0

Sheet H. Other activities
A1: To be updated accordingly
A2: Other activities | D2: Points
A3: Member of international editorial board
A4: Member of national editorial board
D6: Total
D7: =SUM(D3:D5) -> 0

Sheet Resume
A1: Section | B1: Points | C1: Counted Points
A2: A. Publications | B2: ='A. Publications'!H16 -> 0 | C2: ='A. Publications'!I16 -> 0
A3: B. Presentations | B3: ='B. Presentations'!F16 -> 0 | C3: ='B. Presentations'!G16 -> 0
A4: C. AGM meetings | B4: ='C. ECZM Biz Meetings'!D9 -> 0 | C4: ='C. ECZM Biz Meetings'!D9 -> 0
A5: D. Meetings | B5: ='D. Meetings'!F16 -> 0 | C5: ='D. Meetings'!G16 -> 0
A6: E. ECZM Comm Memberships | B6: ='E. ECZM CommMembership'!E6 -> 0 | C6: ='E. ECZM CommMembership'!E6 -> 0
A7: F. Residency | B7: ='F. Residency'!E6 -> 0 | C7: ='F. Residency'!E6 -> 0
A8: G. Exam questions | B8: ='G. ExamQuestions '!C6 -> 0 | C8: ='G. ExamQuestions '!D6 -> 0
A9: H. Other activities | B9: ='H. Other activities'!D7 -> 0 | C9: ='H. Other activities'!D7 -> 0
A10: Total | B10: =SUM(B2:B9) -> 0 | C10: =SUM(C2:C9) -> 0
